BEGIN:VCALENDAR
VERSION:2.0
PRODID:-//eventon.com NONSGML v1.0//EN
CALSCALE:GREGORIAN
METHOD:PUBLISH
BEGIN:VEVENT
UID:69e57ad9a08e7
DTSTAMP:20260420T010113Z
DTSTART:20261212T140000Z
DTEND:20261212T140000Z
LOCATION:Castelo da Serra R. Nova Tirol\,  1188\,  Piraquara
SUMMARY:CASAMENTO CAROLINE E IAN
DESCRIPTION:CASAMENTO CAROLINE E IAN\nhttps://adm.nizogomide.com.br/blog/ev
 ents/casamento-caroline-e-ian/
URL:https://adm.nizogomide.com.br/blog/events/casamento-caroline-e-ian/
END:VEVENT
END:VCALENDAR