BEGIN:VCALENDAR
VERSION:2.0
PRODID:-//eventon.com NONSGML v1.0//EN
CALSCALE:GREGORIAN
METHOD:PUBLISH
BEGIN:VEVENT
UID:69e57bca8482e
DTSTAMP:20260420T010514Z
DTSTART:20260926T140000Z
DTEND:20260926T140000Z
LOCATION:CASTELO BERTI SAO JOSE DOS PINHAIS
SUMMARY:CASAMENTO MARINA E LEONARDO
DESCRIPTION:CASAMENTO MARINA E LEONARDO\nhttps://adm.nizogomide.com.br/blog
 /events/casamento-marina-e-leonardo/
URL:https://adm.nizogomide.com.br/blog/events/casamento-marina-e-leonardo/
END:VEVENT
END:VCALENDAR