BEGIN:VCALENDAR
VERSION:2.0
PRODID:-//eventon.com NONSGML v1.0//EN
CALSCALE:GREGORIAN
METHOD:PUBLISH
BEGIN:VEVENT
UID:69e58eb806cd7
DTSTAMP:20260420T022600Z
DTSTART:20260905T110000Z
DTEND:20260906T025900Z
LOCATION:Opera Concept Hall
SUMMARY:CONGRESSO REUMATOLOGIA
DESCRIPTION:CONTRATO ASSINADO REPS NIZO\nhttps://adm.nizogomide.com.br/blog
 /events/congresso-via-soft/
URL:https://adm.nizogomide.com.br/blog/events/congresso-via-soft/
END:VEVENT
END:VCALENDAR