BEGIN:VCALENDAR
VERSION:2.0
PRODID:-//eventon.com NONSGML v1.0//EN
CALSCALE:GREGORIAN
METHOD:PUBLISH
BEGIN:VEVENT
UID:69e58458e0bce
DTSTAMP:20260420T014144Z
DTSTART:20260903T230000Z
DTEND:20260903T190000Z
LOCATION:VIA SOFT
SUMMARY:Congresso Reumatologia
DESCRIPTION:CONTRATO ASSINADO RESP NIZO\nhttps://adm.nizogomide.com.br/blog
 /events/congresso-reumatologia/
URL:https://adm.nizogomide.com.br/blog/events/congresso-reumatologia/
END:VEVENT
END:VCALENDAR