BEGIN:VCALENDAR
VERSION:2.0
PRODID:-//eventon.com NONSGML v1.0//EN
CALSCALE:GREGORIAN
METHOD:PUBLISH
BEGIN:VEVENT
UID:69e5844d9c07a
DTSTAMP:20260420T014133Z
DTSTART:20270626T220000Z
DTEND:20270626T220000Z
LOCATION:UBERLANDIA
SUMMARY:CASAMENTO GIOVANA
DESCRIPTION:VINICOLA ANDRESSA / MARIA FLOR\nhttps://adm.nizogomide.com.br/b
 log/events/casamento-giovana/
URL:https://adm.nizogomide.com.br/blog/events/casamento-giovana/
END:VEVENT
END:VCALENDAR