BEGIN:VCALENDAR
VERSION:2.0
PRODID:-//eventon.com NONSGML v1.0//EN
CALSCALE:GREGORIAN
METHOD:PUBLISH
BEGIN:VEVENT
UID:69e5821211e3d
DTSTAMP:20260420T013202Z
DTSTART:20261028T170000Z
DTEND:20261109T170000Z
LOCATION:
SUMMARY:BERNARDO MANITA OCUPADO
DESCRIPTION:BERNARDO MANITA OCUPADO\nhttps://adm.nizogomide.com.br/blog/eve
 nts/bernardo-manita-ocupado-40/
URL:https://adm.nizogomide.com.br/blog/events/bernardo-manita-ocupado-40/
END:VEVENT
END:VCALENDAR