BEGIN:VCALENDAR
VERSION:2.0
PRODID:-//eventon.com NONSGML v1.0//EN
CALSCALE:GREGORIAN
METHOD:PUBLISH
BEGIN:VEVENT
UID:69e57b9516444
DTSTAMP:20260420T010421Z
DTSTART:20260822T120000Z
DTEND:20260822T120000Z
LOCATION:Indra Catering  Rua Dr. Reynaldo Machado\,  81 - Rebouças\,  Curitiba - PR
SUMMARY:NIVER 15 ANOS GEMEAS
DESCRIPTION:NIVER 15 ANOS GEMEAS\nhttps://adm.nizogomide.com.br/blog/events
 /niver-15-anos-gemeas/
URL:https://adm.nizogomide.com.br/blog/events/niver-15-anos-gemeas/
END:VEVENT
END:VCALENDAR