BEGIN:VCALENDAR
VERSION:2.0
PRODID:-//eventon.com NONSGML v1.0//EN
CALSCALE:GREGORIAN
METHOD:PUBLISH
BEGIN:VEVENT
UID:69e57e2138358
DTSTAMP:20260420T011513Z
DTSTART:20260801T120000Z
DTEND:20260801T120000Z
LOCATION:Castelo do Batel Av. do Batel\,  1323 - Batel\,  Curitiba - PR\, 
SUMMARY:EVENTO GP EXPERIENCE
DESCRIPTION:200 A 250 PAX\nhttps://adm.nizogomide.com.br/blog/events/evento
 -gp-experience/
URL:https://adm.nizogomide.com.br/blog/events/evento-gp-experience/
END:VEVENT
END:VCALENDAR