BEGIN:VCALENDAR
VERSION:2.0
PRODID:-//eventon.com NONSGML v1.0//EN
CALSCALE:GREGORIAN
METHOD:PUBLISH
BEGIN:VEVENT
UID:69e58eb8eac38
DTSTAMP:20260420T022600Z
DTSTART:20260801T120000Z
DTEND:20260802T025900Z
LOCATION:Castelo do Batel Av. do Batel\,  1323 - Batel\,  Curitiba - PR\, 
SUMMARY:CASAMENTO ISA E EMANUELL
DESCRIPTION:CASAMENTO ISA E EMANUELL\nhttps://adm.nizogomide.com.br/blog/ev
 ents/casamento-isa-e-emanuell/
URL:https://adm.nizogomide.com.br/blog/events/casamento-isa-e-emanuell/
END:VEVENT
END:VCALENDAR