BEGIN:VCALENDAR
VERSION:2.0
PRODID:-//eventon.com NONSGML v1.0//EN
CALSCALE:GREGORIAN
METHOD:PUBLISH
BEGIN:VEVENT
UID:69e57fd803669
DTSTAMP:20260420T012232Z
DTSTART:20260522T120000Z
DTEND:20260524T020000Z
LOCATION:
SUMMARY:Casamento Carol e Caio
DESCRIPTION:RESP NIZO ITACIMIRIM &#8211; BA\nhttps://adm.nizogomide.com.br/
 blog/events/casamento-carol-e-caio/
URL:https://adm.nizogomide.com.br/blog/events/casamento-carol-e-caio/
END:VEVENT
END:VCALENDAR