BEGIN:VCALENDAR
VERSION:2.0
PRODID:-//eventon.com NONSGML v1.0//EN
CALSCALE:GREGORIAN
METHOD:PUBLISH
BEGIN:VEVENT
UID:69e57bc99e142
DTSTAMP:20260420T010513Z
DTSTART:20261017T180000Z
DTEND:20261018T025900Z
LOCATION:
SUMMARY:CASAMENTO PARA NAIARA
DESCRIPTION:PRÉ RESERVA RESP NIZO LARANJEIRAS DO SUL\nhttps://adm.nizogomi
 de.com.br/blog/events/casamento-para-naiara/
URL:https://adm.nizogomide.com.br/blog/events/casamento-para-naiara/
END:VEVENT
END:VCALENDAR