BEGIN:VCALENDAR
VERSION:2.0
PRODID:-//eventon.com NONSGML v1.0//EN
CALSCALE:GREGORIAN
METHOD:PUBLISH
BEGIN:VEVENT
UID:69e5873a4ada3
DTSTAMP:20260420T015402Z
DTSTART:20260815T180000Z
DTEND:20260815T180000Z
LOCATION:
SUMMARY:FESTA 15 ANOS PARA NAIARA
DESCRIPTION:PRÉ RESERVA RESP NIZO\nhttps://adm.nizogomide.com.br/blog/even
 ts/festa-15-anos-para-naiara/
URL:https://adm.nizogomide.com.br/blog/events/festa-15-anos-para-naiara/
END:VEVENT
END:VCALENDAR