BEGIN:VCALENDAR
VERSION:2.0
PRODID:-//eventon.com NONSGML v1.0//EN
CALSCALE:GREGORIAN
METHOD:PUBLISH
BEGIN:VEVENT
UID:69e586d844156
DTSTAMP:20260420T015224Z
DTSTART:20260829T094900Z
DTEND:20260830T025900Z
LOCATION:Indra Catering  Rua Dr. Reynaldo Machado\,  81 - Rebouças\,  Curitiba - PR
SUMMARY:15 Anos Giovana Fedeger
DESCRIPTION:Filha Karina (Exata)\nhttps://adm.nizogomide.com.br/blog/events
 /15-anos-giovana-fedeger/
URL:https://adm.nizogomide.com.br/blog/events/15-anos-giovana-fedeger/
END:VEVENT
END:VCALENDAR