BEGIN:VCALENDAR
VERSION:2.0
PRODID:-//eventon.com NONSGML v1.0//EN
CALSCALE:GREGORIAN
METHOD:PUBLISH
BEGIN:VEVENT
UID:69e58213f2c12
DTSTAMP:20260420T013203Z
DTSTART:20261107T120000Z
DTEND:20261107T120000Z
LOCATION:
SUMMARY:DJ GUI NÓBREGA - OCUPADO
DESCRIPTION:DJ GUI NÓBREGA - OCUPADO\nhttps://adm.nizogomide.com.br/blog/e
 vents/dj-gui-nobrega-ocupado-4/
URL:https://adm.nizogomide.com.br/blog/events/dj-gui-nobrega-ocupado-4/
END:VEVENT
END:VCALENDAR