BEGIN:VCALENDAR
VERSION:2.0
PRODID:-//eventon.com NONSGML v1.0//EN
CALSCALE:GREGORIAN
METHOD:PUBLISH
BEGIN:VEVENT
UID:69e5825e1e92d
DTSTAMP:20260420T013318Z
DTSTART:20271113T190000Z
DTEND:20271114T010000Z
LOCATION:ESTALEIRINHO - PORTO BELO PORTO BELO
SUMMARY:CASAMENTO MARIANA E BRUNO
DESCRIPTION:Resp Grazi&nbsp; Indicação Bernardo&nbsp; 120 pax Talvez ceri
 mônia&nbsp;\nhttps://adm.nizogomide.com.br/blog/events/casamento-mariana-e
 -bruno/
URL:https://adm.nizogomide.com.br/blog/events/casamento-mariana-e-bruno/
END:VEVENT
END:VCALENDAR