BEGIN:VCALENDAR
VERSION:2.0
PRODID:-//eventon.com NONSGML v1.0//EN
CALSCALE:GREGORIAN
METHOD:PUBLISH
BEGIN:VEVENT
UID:69e586f84f18d
DTSTAMP:20260420T015256Z
DTSTART:20270306T200000Z
DTEND:20270307T025900Z
LOCATION:SPOT 105 Ernesto Durigan\,  105 - Santa Felicidade
SUMMARY:Casamento Andressa Majewski & Shio
DESCRIPTION:\nhttps://adm.nizogomide.com.br/blog/events/casamento-andressa-
 majewski-shio/
URL:https://adm.nizogomide.com.br/blog/events/casamento-andressa-majewski-shio/
END:VEVENT
END:VCALENDAR