BEGIN:VCALENDAR
VERSION:2.0
PRODID:-//eventon.com NONSGML v1.0//EN
CALSCALE:GREGORIAN
METHOD:PUBLISH
BEGIN:VEVENT
UID:69e57fd626160
DTSTAMP:20260420T012230Z
DTSTART:20270220T180000Z
DTEND:20270221T020000Z
LOCATION:Graciosa Country Clube Av. Munhoz da Rocha\,  1146 - Cabral\,  Curitiba - PR
SUMMARY:Casamento Leticia e Gabriel (RESERVA 2)
DESCRIPTION:PRÉ RESERVA RESP NIZO 27 OU 28 FEV&nbsp;\nhttps://adm.nizogomi
 de.com.br/blog/events/casamento-leticia-e-gabriel-copy/
URL:https://adm.nizogomide.com.br/blog/events/casamento-leticia-e-gabriel-copy/
END:VEVENT
END:VCALENDAR