BEGIN:VCALENDAR
VERSION:2.0
PRODID:-//eventon.com NONSGML v1.0//EN
CALSCALE:GREGORIAN
METHOD:PUBLISH
BEGIN:VEVENT
UID:69e5873906421
DTSTAMP:20260420T015401Z
DTSTART:20260607T003000Z
DTEND:20260607T025900Z
LOCATION:Chácara Mata Nativa CLOMBO/PR
SUMMARY:Casamento Joana e Rômulo
DESCRIPTION:Cliente veio através da banda\nhttps://adm.nizogomide.com.br/b
 log/events/casamento-romulo/
URL:https://adm.nizogomide.com.br/blog/events/casamento-romulo/
END:VEVENT
END:VCALENDAR