BEGIN:VCALENDAR
VERSION:2.0
PRODID:-//eventon.com NONSGML v1.0//EN
CALSCALE:GREGORIAN
METHOD:PUBLISH
BEGIN:VEVENT
UID:69e5845827a63
DTSTAMP:20260420T014144Z
DTSTART:20260919T140000Z
DTEND:20260920T025900Z
LOCATION:Central Hall R. João Negrão\,  1140 - Rebouças\,  Curitiba - PR\, 
SUMMARY:NIVER 5.0 LEANDRO
DESCRIPTION:\nhttps://adm.nizogomide.com.br/blog/events/niver-5-0-leandro/
URL:https://adm.nizogomide.com.br/blog/events/niver-5-0-leandro/
END:VEVENT
END:VCALENDAR