BEGIN:VCALENDAR
VERSION:2.0
PRODID:-//eventon.com NONSGML v1.0//EN
CALSCALE:GREGORIAN
METHOD:PUBLISH
BEGIN:VEVENT
UID:69e58bd045d86
DTSTAMP:20260420T021336Z
DTSTART:20261205T200000Z
DTEND:20261206T025900Z
LOCATION:
SUMMARY:Otavio (ocupado) viajando
DESCRIPTION:CONTRAO ASSINADO RESP OTAVIO\nhttps://adm.nizogomide.com.br/blo
 g/events/otavio-ocupado-viajando/
URL:https://adm.nizogomide.com.br/blog/events/otavio-ocupado-viajando/
END:VEVENT
END:VCALENDAR