BEGIN:VCALENDAR
VERSION:2.0
PRODID:-//eventon.com NONSGML v1.0//EN
CALSCALE:GREGORIAN
METHOD:PUBLISH
BEGIN:VEVENT
UID:69e58bdf667c0
DTSTAMP:20260420T021351Z
DTSTART:20271106T183000Z
DTEND:20271106T230000Z
LOCATION:SPOT 105 Ernesto Durigan\,  105 - Santa Felicidade
SUMMARY:CASAMENTO ISABELA E SERGIO
DESCRIPTION:2a pré reserva Resp. Grazi Indicação Bernardo&nbsp; 100 pax\
 nhttps://adm.nizogomide.com.br/blog/events/casamento-isabela-e-sergio/
URL:https://adm.nizogomide.com.br/blog/events/casamento-isabela-e-sergio/
END:VEVENT
END:VCALENDAR