BEGIN:VCALENDAR
VERSION:2.0
PRODID:-//eventon.com NONSGML v1.0//EN
CALSCALE:GREGORIAN
METHOD:PUBLISH
BEGIN:VEVENT
UID:69e58c7ee6ecb
DTSTAMP:20260420T021630Z
DTSTART:20270220T170000Z
DTEND:20270220T170000Z
LOCATION:Residência Particular
SUMMARY:ANIVERSÁRIO 40 ANOS ANA
DESCRIPTION:60 PAX\nhttps://adm.nizogomide.com.br/blog/events/aniversario-4
 0-anos-ana/
URL:https://adm.nizogomide.com.br/blog/events/aniversario-40-anos-ana/
END:VEVENT
END:VCALENDAR