BEGIN:VCALENDAR
VERSION:2.0
PRODID:-//eventon.com NONSGML v1.0//EN
CALSCALE:GREGORIAN
METHOD:PUBLISH
BEGIN:VEVENT
UID:69e58e4e52b95
DTSTAMP:20260420T022414Z
DTSTART:20270619T220000Z
DTEND:20270619T220000Z
LOCATION:Castelo do Batel Av. do Batel\,  1323 - Batel\,  Curitiba - PR\, 
SUMMARY:FESTA 15 ANOS MARIA LUIZA
DESCRIPTION:200 PAX\nhttps://adm.nizogomide.com.br/blog/events/festa-15-ano
 s-maria-luiza-2/
URL:https://adm.nizogomide.com.br/blog/events/festa-15-anos-maria-luiza-2/
END:VEVENT
END:VCALENDAR