BEGIN:VCALENDAR
VERSION:2.0
PRODID:-//eventon.com NONSGML v1.0//EN
CALSCALE:GREGORIAN
METHOD:PUBLISH
BEGIN:VEVENT
UID:69e58124c1972
DTSTAMP:20260420T012804Z
DTSTART:20260815T220000Z
DTEND:20260815T180000Z
LOCATION:Mezza Notte  Av. Manoel Ribas\,  5667 - Santa Felicidade\,  Curitiba - PR\, 
SUMMARY:Festa 15 Anos Mariana
DESCRIPTION:PRÉ RESERVA RESP NIZO\nhttps://adm.nizogomide.com.br/blog/even
 ts/festa-15-anos-mariana-3/
URL:https://adm.nizogomide.com.br/blog/events/festa-15-anos-mariana-3/
END:VEVENT
END:VCALENDAR