BEGIN:VCALENDAR
VERSION:2.0
PRODID:-//eventon.com NONSGML v1.0//EN
CALSCALE:GREGORIAN
METHOD:PUBLISH
BEGIN:VEVENT
UID:69e57bcb1e577
DTSTAMP:20260420T010515Z
DTSTART:20270227T180000Z
DTEND:20270228T020000Z
LOCATION:Graciosa Country Clube Av. Munhoz da Rocha\,  1146 - Cabral\,  Curitiba - PR
SUMMARY:Casamento Leticia e Gabriel
DESCRIPTION:PRÉ RESERVA RESP NIZO 27 OU 28 FEV&nbsp;\nhttps://adm.nizogomi
 de.com.br/blog/events/casamento-leticia-e-gabriel-2/
URL:https://adm.nizogomide.com.br/blog/events/casamento-leticia-e-gabriel-2/
END:VEVENT
END:VCALENDAR