BEGIN:VCALENDAR
VERSION:2.0
PRODID:-//eventon.com NONSGML v1.0//EN
CALSCALE:GREGORIAN
METHOD:PUBLISH
BEGIN:VEVENT
UID:69e582efb81d0
DTSTAMP:20260420T013543Z
DTSTART:20261022T230000Z
DTEND:20261023T020000Z
LOCATION:Castelo do Batel Av. do Batel\,  1323 - Batel\,  Curitiba - PR\, 
SUMMARY:EVENTO CORPORATIVO ALIIA
DESCRIPTION:Resp Grazi&nbsp; 400 pax\nhttps://adm.nizogomide.com.br/blog/ev
 ents/evento-corporativo-aliia/
URL:https://adm.nizogomide.com.br/blog/events/evento-corporativo-aliia/
END:VEVENT
END:VCALENDAR