BEGIN:VCALENDAR
VERSION:2.0
PRODID:-//eventon.com NONSGML v1.0//EN
CALSCALE:GREGORIAN
METHOD:PUBLISH
BEGIN:VEVENT
UID:69e57d3154f3b
DTSTAMP:20260420T011113Z
DTSTART:20260404T180000Z
DTEND:20260405T025900Z
LOCATION:VINDOURO RESTAURANTE
SUMMARY:Casamento Patrícia e Édson
DESCRIPTION:FECHADO VERBALMENTE RESP NIZO VINDOURO VAR\nhttps://adm.nizogom
 ide.com.br/blog/events/casamento-patricia-e-edson/
URL:https://adm.nizogomide.com.br/blog/events/casamento-patricia-e-edson/
END:VEVENT
END:VCALENDAR