BEGIN:VCALENDAR
VERSION:2.0
PRODID:-//eventon.com NONSGML v1.0//EN
CALSCALE:GREGORIAN
METHOD:PUBLISH
BEGIN:VEVENT
UID:69e589d3420ac
DTSTAMP:20260420T020507Z
DTSTART:20260919T210000Z
DTEND:20260920T025900Z
LOCATION:Residência Particular
SUMMARY:CASAMENTO ANA E JESSE
DESCRIPTION:RESIDENCIA PARTICULAR &#8211; STA FELICIDADE ALMOCO\nhttps://ad
 m.nizogomide.com.br/blog/events/casamento-ana-e-jesse/
URL:https://adm.nizogomide.com.br/blog/events/casamento-ana-e-jesse/
END:VEVENT
END:VCALENDAR