BEGIN:VCALENDAR
VERSION:2.0
PRODID:-//eventon.com NONSGML v1.0//EN
CALSCALE:GREGORIAN
METHOD:PUBLISH
BEGIN:VEVENT
UID:69e57e21383d3
DTSTAMP:20260420T011513Z
DTSTART:20260808T210000Z
DTEND:20260808T210000Z
LOCATION:Central Hall R. João Negrão\,  1140 - Rebouças\,  Curitiba - PR\, 
SUMMARY:FESTA 15 ANOS LARA
DESCRIPTION:Luis Indic Gui\nhttps://adm.nizogomide.com.br/blog/events/festa
 -15-anos-lara-3/
URL:https://adm.nizogomide.com.br/blog/events/festa-15-anos-lara-3/
END:VEVENT
END:VCALENDAR