BEGIN:VCALENDAR
VERSION:2.0
PRODID:-//eventon.com NONSGML v1.0//EN
CALSCALE:GREGORIAN
METHOD:PUBLISH
BEGIN:VEVENT
UID:69e58c9067228
DTSTAMP:20260420T021648Z
DTSTART:20260516T230000Z
DTEND:20260517T025900Z
LOCATION:FIORI EVENTOS GUARAPUAVA
SUMMARY:FESTA 15 ANOS MARIA JULIA
DESCRIPTION:FESTA 15 ANOS MARIA JULIA\nhttps://adm.nizogomide.com.br/blog/e
 vents/festa-15-anos-maria-julia-2/
URL:https://adm.nizogomide.com.br/blog/events/festa-15-anos-maria-julia-2/
END:VEVENT
END:VCALENDAR