BEGIN:VCALENDAR
VERSION:2.0
PRODID:-//eventon.com NONSGML v1.0//EN
CALSCALE:GREGORIAN
METHOD:PUBLISH
BEGIN:VEVENT
UID:69e5825ebd2e1
DTSTAMP:20260420T013318Z
DTSTART:20260730T140000Z
DTEND:20260731T025900Z
LOCATION:Castelo do Batel Av. do Batel\,  1323 - Batel\,  Curitiba - PR\, 
SUMMARY:EVENTO CATTALINNI
DESCRIPTION:EVENTO CATTALINNI\nhttps://adm.nizogomide.com.br/blog/events/ev
 ento-cattalinni-2/
URL:https://adm.nizogomide.com.br/blog/events/evento-cattalinni-2/
END:VEVENT
END:VCALENDAR