BEGIN:VCALENDAR
VERSION:2.0
PRODID:-//eventon.com NONSGML v1.0//EN
CALSCALE:GREGORIAN
METHOD:PUBLISH
BEGIN:VEVENT
UID:69e5784080e1e
DTSTAMP:20260420T005008Z
DTSTART:20260628T150000Z
DTEND:20260628T120000Z
LOCATION:
SUMMARY:Renovação de Votos Juliana e Leandro
DESCRIPTION:PR;E RESERVA\nhttps://adm.nizogomide.com.br/blog/events/renovac
 ao-de-votos-juliana-e-leandro/
URL:https://adm.nizogomide.com.br/blog/events/renovacao-de-votos-juliana-e-leandro/
END:VEVENT
END:VCALENDAR