BEGIN:VCALENDAR
VERSION:2.0
PRODID:-//eventon.com NONSGML v1.0//EN
CALSCALE:GREGORIAN
METHOD:PUBLISH
BEGIN:VEVENT
UID:69e57b9476e6c
DTSTAMP:20260420T010420Z
DTSTART:20260906T170000Z
DTEND:20260906T170000Z
LOCATION:Belvedere Rua Silvio Dallagrana\,  5400 - Campo Largo - PR
SUMMARY:CASAMENTO P/VANESSA RIBEIRO
DESCRIPTION:CASAMENTO P/VANESSA RIBEIRO\nhttps://adm.nizogomide.com.br/blog
 /events/casamento-p-vanessa-ribeiro/
URL:https://adm.nizogomide.com.br/blog/events/casamento-p-vanessa-ribeiro/
END:VEVENT
END:VCALENDAR