BEGIN:VCALENDAR
VERSION:2.0
PRODID:-//eventon.com NONSGML v1.0//EN
CALSCALE:GREGORIAN
METHOD:PUBLISH
BEGIN:VEVENT
UID:69e589c78140f
DTSTAMP:20260420T020455Z
DTSTART:20260711T120000Z
DTEND:20260711T230000Z
LOCATION:
SUMMARY:OTAVIO OCUPADO (DURANTE O DIA)
DESCRIPTION:CONTRATO ASSINADO RESP OTAVIO\nhttps://adm.nizogomide.com.br/bl
 og/events/otavio-ocupado-durante-o-dia/
URL:https://adm.nizogomide.com.br/blog/events/otavio-ocupado-durante-o-dia/
END:VEVENT
END:VCALENDAR