BEGIN:VCALENDAR
VERSION:2.0
PRODID:-//eventon.com NONSGML v1.0//EN
CALSCALE:GREGORIAN
METHOD:PUBLISH
BEGIN:VEVENT
UID:69e58c7e6554f
DTSTAMP:20260420T021630Z
DTSTART:20260829T231700Z
DTEND:20260830T025900Z
LOCATION:Espaço Marias FOZ FOZ DO IGUAÇU
SUMMARY:Casamento Catarina (Nina) e Gustavo
DESCRIPTION:FOZ\nhttps://adm.nizogomide.com.br/blog/events/casamento-catari
 na-nina-e-gustavo/
URL:https://adm.nizogomide.com.br/blog/events/casamento-catarina-nina-e-gustavo/
END:VEVENT
END:VCALENDAR