BEGIN:VCALENDAR
VERSION:2.0
PRODID:-//eventon.com NONSGML v1.0//EN
CALSCALE:GREGORIAN
METHOD:PUBLISH
BEGIN:VEVENT
UID:69e58bd0e0aec
DTSTAMP:20260420T021336Z
DTSTART:20261010T140000Z
DTEND:20261010T140000Z
LOCATION:Guest House - Praia do Estaleiro SC
SUMMARY:CASAMENTO MARIA VITORIA E PEDRO HENRIQUE
DESCRIPTION:CASAMENTO MARIA VITORIA E PEDRO HENRIQUE\nhttps://adm.nizogomid
 e.com.br/blog/events/casamento-maria-vitoria-e-pedro-henrique/
URL:https://adm.nizogomide.com.br/blog/events/casamento-maria-vitoria-e-pedro-henrique/
END:VEVENT
END:VCALENDAR