BEGIN:VCALENDAR
VERSION:2.0
PRODID:-//eventon.com NONSGML v1.0//EN
CALSCALE:GREGORIAN
METHOD:PUBLISH
BEGIN:VEVENT
UID:69e5812551ddf
DTSTAMP:20260420T012805Z
DTSTART:20260704T140000Z
DTEND:20260704T140000Z
LOCATION:CANDIDO MOTA SAO PAULO
SUMMARY:CASAMENTO TAUANE E VICTOR
DESCRIPTION:CASAMENTO TAUANE E VICTOR\nhttps://adm.nizogomide.com.br/blog/e
 vents/casamento-tauane-e-victor/
URL:https://adm.nizogomide.com.br/blog/events/casamento-tauane-e-victor/
END:VEVENT
END:VCALENDAR