BEGIN:VCALENDAR
VERSION:2.0
PRODID:-//eventon.com NONSGML v1.0//EN
CALSCALE:GREGORIAN
METHOD:PUBLISH
BEGIN:VEVENT
UID:69e58125c9bd4
DTSTAMP:20260420T012805Z
DTSTART:20260506T120000Z
DTEND:20260506T120000Z
LOCATION:
SUMMARY:Bernardo (ocupado) Lançamento disco Indiara
DESCRIPTION:CONRTATO ASSINADO RESP BERNARDO\nhttps://adm.nizogomide.com.br/
 blog/events/bernardo-ocupado-lancamento-disco-indiara/
URL:https://adm.nizogomide.com.br/blog/events/bernardo-ocupado-lancamento-disco-indiara/
END:VEVENT
END:VCALENDAR