BEGIN:VCALENDAR
VERSION:2.0
PRODID:-//eventon.com NONSGML v1.0//EN
CALSCALE:GREGORIAN
METHOD:PUBLISH
BEGIN:VEVENT
UID:69e57d30bfd7e
DTSTAMP:20260420T011112Z
DTSTART:20270515T130000Z
DTEND:20270516T025900Z
LOCATION:Central Hall R. João Negrão\,  1140 - Rebouças\,  Curitiba - PR\, 
SUMMARY:CASAMENTO MATHEUS E GABRIEL
DESCRIPTION:180 PAX\nhttps://adm.nizogomide.com.br/blog/events/casamento-ma
 theus-e-gabriel/
URL:https://adm.nizogomide.com.br/blog/events/casamento-matheus-e-gabriel/
END:VEVENT
END:VCALENDAR