BEGIN:VCALENDAR
VERSION:2.0
PRODID:-//eventon.com NONSGML v1.0//EN
CALSCALE:GREGORIAN
METHOD:PUBLISH
BEGIN:VEVENT
UID:69e57d3e1703e
DTSTAMP:20260420T011126Z
DTSTART:20261003T170000Z
DTEND:20261003T170000Z
LOCATION:Klaine Garden Lounge R. Justo Manfron\,  1431 - Santa Felicidade\,  Curitiba - PR
SUMMARY:CASAMENTO FERNANDA E EDUARDO
DESCRIPTION:CASAMENTO FERNANDA E EDUARDO\nhttps://adm.nizogomide.com.br/blo
 g/events/casamento-fernanda-e-eduardo/
URL:https://adm.nizogomide.com.br/blog/events/casamento-fernanda-e-eduardo/
END:VEVENT
END:VCALENDAR