BEGIN:VCALENDAR
VERSION:2.0
PRODID:-//eventon.com NONSGML v1.0//EN
CALSCALE:GREGORIAN
METHOD:PUBLISH
BEGIN:VEVENT
UID:69e57bca495e3
DTSTAMP:20260420T010514Z
DTSTART:20261214T140000Z
DTEND:20261215T140000Z
LOCATION:
SUMMARY:BERNARDO OCUPADO - JARAGUÁ DO SUL
DESCRIPTION:BERNARDO OCUPADO - JARAGUÁ DO SUL\nhttps://adm.nizogomide.com.
 br/blog/events/bernardo-ocupado-jaragua-do-sul-2/
URL:https://adm.nizogomide.com.br/blog/events/bernardo-ocupado-jaragua-do-sul-2/
END:VEVENT
END:VCALENDAR