BEGIN:VCALENDAR
VERSION:2.0
PRODID:-//eventon.com NONSGML v1.0//EN
CALSCALE:GREGORIAN
METHOD:PUBLISH
BEGIN:VEVENT
UID:69e57fb56aac7
DTSTAMP:20260420T012157Z
DTSTART:20261211T140000Z
DTEND:20261211T140000Z
LOCATION:
SUMMARY:BERNARDO OCUPADO - JARAGUÁ DO SUL
DESCRIPTION:BERNARDO OCUPADO - JARAGUÁ DO SUL\nhttps://adm.nizogomide.com.
 br/blog/events/bernardo-ocupado-jaragua-do-sul/
URL:https://adm.nizogomide.com.br/blog/events/bernardo-ocupado-jaragua-do-sul/
END:VEVENT
END:VCALENDAR