BEGIN:VCALENDAR
VERSION:2.0
PRODID:-//eventon.com NONSGML v1.0//EN
CALSCALE:GREGORIAN
METHOD:PUBLISH
BEGIN:VEVENT
UID:69e57841666f6
DTSTAMP:20260420T005009Z
DTSTART:20271106T130000Z
DTEND:20271107T025900Z
LOCATION:Castelo do Batel Av. do Batel\,  1323 - Batel\,  Curitiba - PR\, 
SUMMARY:CASAMENTO PIETRA E RODRIGO
DESCRIPTION:250 PAX\nhttps://adm.nizogomide.com.br/blog/events/casamento-pi
 etra-e-rodrigo/
URL:https://adm.nizogomide.com.br/blog/events/casamento-pietra-e-rodrigo/
END:VEVENT
END:VCALENDAR