BEGIN:VCALENDAR
VERSION:2.0
PRODID:-//eventon.com NONSGML v1.0//EN
CALSCALE:GREGORIAN
METHOD:PUBLISH
BEGIN:VEVENT
UID:69e5850eed6aa
DTSTAMP:20260420T014446Z
DTSTART:20260713T074700Z
DTEND:20260728T074700Z
LOCATION:
SUMMARY:FÉRIAS NIZO
DESCRIPTION:\nhttps://adm.nizogomide.com.br/blog/events/ferias-nizo-3/
URL:https://adm.nizogomide.com.br/blog/events/ferias-nizo-3/
END:VEVENT
END:VCALENDAR