BEGIN:VCALENDAR
VERSION:2.0
PRODID:-//eventon.com NONSGML v1.0//EN
CALSCALE:GREGORIAN
METHOD:PUBLISH
BEGIN:VEVENT
UID:69e57ad89c25e
DTSTAMP:20260420T010112Z
DTSTART:20270410T180000Z
DTEND:20270410T180000Z
LOCATION:CASCAVEL -PR
SUMMARY:Casamento Rafaela e Fernando
DESCRIPTION:PRÉ RESERVA RESP TECA\nhttps://adm.nizogomide.com.br/blog/even
 ts/casamento-rafaela-e-fernando/
URL:https://adm.nizogomide.com.br/blog/events/casamento-rafaela-e-fernando/
END:VEVENT
END:VCALENDAR