BEGIN:VCALENDAR
VERSION:2.0
PRODID:-//eventon.com NONSGML v1.0//EN
CALSCALE:GREGORIAN
METHOD:PUBLISH
BEGIN:VEVENT
UID:69e57ad81d3ec
DTSTAMP:20260420T010112Z
DTSTART:20270306T180000Z
DTEND:20270307T025900Z
LOCATION:
SUMMARY:Casamento Rafaela e Eduardo
DESCRIPTION:PRÉ RESERVA RESP TECA\nhttps://adm.nizogomide.com.br/blog/even
 ts/casamento-rafela-e-eduardo/
URL:https://adm.nizogomide.com.br/blog/events/casamento-rafela-e-eduardo/
END:VEVENT
END:VCALENDAR