BEGIN:VCALENDAR
VERSION:2.0
PRODID:-//eventon.com NONSGML v1.0//EN
CALSCALE:GREGORIAN
METHOD:PUBLISH
BEGIN:VEVENT
UID:69e57fb4d94f3
DTSTAMP:20260420T012156Z
DTSTART:20261010T180000Z
DTEND:20261011T025900Z
LOCATION:Clube Curitibano - SEDE GOLFE
SUMMARY:Casamento Luiza Gebran e Gabriel
DESCRIPTION:PRÉ RESERVA RESP NIZO\nhttps://adm.nizogomide.com.br/blog/even
 ts/casamento-luiza-gebran-e-gabriel/
URL:https://adm.nizogomide.com.br/blog/events/casamento-luiza-gebran-e-gabriel/
END:VEVENT
END:VCALENDAR