BEGIN:VCALENDAR
VERSION:2.0
PRODID:-//eventon.com NONSGML v1.0//EN
CALSCALE:GREGORIAN
METHOD:PUBLISH
BEGIN:VEVENT
UID:69e586f84a822
DTSTAMP:20260420T015256Z
DTSTART:20260801T190000Z
DTEND:20260802T025900Z
LOCATION:SPOT 105 Ernesto Durigan\,  105 - Santa Felicidade
SUMMARY:CASAMENTO CHAY E BRUNO
DESCRIPTION:CASAMENTO CHAY E BRUNO\nhttps://adm.nizogomide.com.br/blog/even
 ts/casamento-chay-e-bruno/
URL:https://adm.nizogomide.com.br/blog/events/casamento-chay-e-bruno/
END:VEVENT
END:VCALENDAR