BEGIN:VCALENDAR
VERSION:2.0
PRODID:-//eventon.com NONSGML v1.0//EN
CALSCALE:GREGORIAN
METHOD:PUBLISH
BEGIN:VEVENT
UID:69e5898d64560
DTSTAMP:20260420T020357Z
DTSTART:20271016T140000Z
DTEND:20271016T140000Z
LOCATION:Castelo do Batel Av. do Batel\,  1323 - Batel\,  Curitiba - PR\, 
SUMMARY:CASAMENTO DAIANE E RAUL
DESCRIPTION:300 PAX\nhttps://adm.nizogomide.com.br/blog/events/casamento-da
 iane-e-raul/
URL:https://adm.nizogomide.com.br/blog/events/casamento-daiane-e-raul/
END:VEVENT
END:VCALENDAR