BEGIN:VCALENDAR
VERSION:2.0
PRODID:-//eventon.com NONSGML v1.0//EN
CALSCALE:GREGORIAN
METHOD:PUBLISH
BEGIN:VEVENT
UID:69e57fb3b9366
DTSTAMP:20260420T012155Z
DTSTART:20260418T200000Z
DTEND:20260419T180000Z
LOCATION:Argentina
SUMMARY:Casamento Luise e Philippe
DESCRIPTION:CONTRATO ASSINADO RESP GUI\nhttps://adm.nizogomide.com.br/blog/
 events/casamento-luise-e-philippe/
URL:https://adm.nizogomide.com.br/blog/events/casamento-luise-e-philippe/
END:VEVENT
END:VCALENDAR